BEGIN:VCALENDAR
VERSION:2.0
PRODID:-//Muslim Scout Fellowship - ECPv6.5.1.5//NONSGML v1.0//EN
CALSCALE:GREGORIAN
METHOD:PUBLISH
X-WR-CALNAME:Muslim Scout Fellowship
X-ORIGINAL-URL:https://beautiful-jones.194-76-27-160.plesk.page
X-WR-CALDESC:Events for Muslim Scout Fellowship
REFRESH-INTERVAL;VALUE=DURATION:PT1H
X-Robots-Tag:noindex
X-PUBLISHED-TTL:PT1H
BEGIN:VTIMEZONE
TZID:Europe/London
BEGIN:DAYLIGHT
TZOFFSETFROM:+0000
TZOFFSETTO:+0100
TZNAME:BST
DTSTART:20220327T010000
END:DAYLIGHT
BEGIN:STANDARD
TZOFFSETFROM:+0100
TZOFFSETTO:+0000
TZNAME:GMT
DTSTART:20221030T010000
END:STANDARD
BEGIN:DAYLIGHT
TZOFFSETFROM:+0000
TZOFFSETTO:+0100
TZNAME:BST
DTSTART:20230326T010000
END:DAYLIGHT
BEGIN:STANDARD
TZOFFSETFROM:+0100
TZOFFSETTO:+0000
TZNAME:GMT
DTSTART:20231029T010000
END:STANDARD
END:VTIMEZONE
BEGIN:VEVENT
DTSTART;TZID=Europe/London:20230727T150000
DTEND;TZID=Europe/London:20230730T150000
DTSTAMP:20260422T002125
CREATED:20230206T170755Z
LAST-MODIFIED:20230206T170755Z
UID:59923-1690470000-1690729200@beautiful-jones.194-76-27-160.plesk.page
SUMMARY:2nd MSF International Jamboree 2023
DESCRIPTION:MSF is excited to celebrate our 2nd International Jamboree. Register now and take part in the biggest event in MSF history!\n\n\nThe Muslim Scout Fellowship is excited to celebrate our 2nd International Jamboree in July 2023\, bringing together thousands of people from across the world to spiritually uplift\, foster friendships\, and broaden horizons! The Jamboree will be full of exciting activities that have never been seen before at MSF Summer Camps\, and will undoubtedly be the highlight of the Scouting journeys of many attendees\, leaders\, and volunteers\, inshaAllah! Register now for the unmissable MSF Jamboree 2023\, and take part in the biggest event in MSF history! \nD﻿ownload Jamboree Information Pack
URL:https://beautiful-jones.194-76-27-160.plesk.page/event/2nd-msf-international-jamboree-2023/
LOCATION:Kibblestone Scout Campsite\, Kibblestone Road\, Oulton\, ST15 8UJ\, Oulton\, ST15 8UJ\, GB
ATTACH;FMTTYPE=image/png:https://beautiful-jones.194-76-27-160.plesk.page/wp-content/uploads/2023/02/59923_image.png
END:VEVENT
BEGIN:VEVENT
DTSTART;TZID=Europe/London:20221126T093000
DTEND;TZID=Europe/London:20221126T170000
DTSTAMP:20260422T002125
CREATED:20221026T130626Z
LAST-MODIFIED:20221128T160533Z
UID:6671-1669455000-1669482000@beautiful-jones.194-76-27-160.plesk.page
SUMMARY:MSF Engagement Days 2022!
DESCRIPTION:A chance to learn new skills\, engage & network with other leaders\n\n\nMSF are happy to bring to you the highly anticipated annual Regional Engagements Days this winter! \nJoin us for a day of networking and socialising with other local Muslim scout groups from across your region. During the day you will have the opportunity to brush up on your pioneering skills\, discuss and learn new strategies of providing a quality programme\, add a host of patrol games to your toolbox\, and take part in an Archery competition! \nKids club will be available for children aged 5-12 to participate in during training hours. (Children under 5 are not eligible for kid’s club and are only permitted with a non-participating adult.) \nLunch will be included for all. \nWe look forward to seeing you there! \n\n\nTickets: \nMidlands: https://www.eventbrite.co.uk/e/msf-engagement-day-midlands-2022-tickets-450448512627 \nSouth: https://www.eventbrite.co.uk/e/msf-engagement-day-south-2022-tickets-450510829017 \nSouth West: https://www.eventbrite.co.uk/e/msf-engagement-day-south-west-2022-tickets-450516546117 \n 
URL:https://beautiful-jones.194-76-27-160.plesk.page/event/msf-engagement-day-north-2022/
LOCATION:10th Fulwood (Salaam) Scouts\, 1 Oliver's Place\, Fulwood\, PR2 9WS\, Fulwood\, PR2 9WS\, GB
ATTACH;FMTTYPE=image/jpeg:https://beautiful-jones.194-76-27-160.plesk.page/wp-content/uploads/2022/10/6671_image.jpg
END:VEVENT
END:VCALENDAR